BEGIN:VCALENDAR
VERSION:2.0
PRODID:-//Flicks - ECPv6.15.20//NONSGML v1.0//EN
CALSCALE:GREGORIAN
METHOD:PUBLISH
X-WR-CALNAME:Flicks
X-ORIGINAL-URL:https://www.sdflicks.com
X-WR-CALDESC:Events for Flicks
REFRESH-INTERVAL;VALUE=DURATION:PT1H
X-Robots-Tag:noindex
X-PUBLISHED-TTL:PT1H
BEGIN:VTIMEZONE
TZID:America/Los_Angeles
BEGIN:DAYLIGHT
TZOFFSETFROM:-0800
TZOFFSETTO:-0700
TZNAME:PDT
DTSTART:20250309T100000
END:DAYLIGHT
BEGIN:STANDARD
TZOFFSETFROM:-0700
TZOFFSETTO:-0800
TZNAME:PST
DTSTART:20251102T090000
END:STANDARD
BEGIN:DAYLIGHT
TZOFFSETFROM:-0800
TZOFFSETTO:-0700
TZNAME:PDT
DTSTART:20260308T100000
END:DAYLIGHT
BEGIN:STANDARD
TZOFFSETFROM:-0700
TZOFFSETTO:-0800
TZNAME:PST
DTSTART:20261101T090000
END:STANDARD
BEGIN:DAYLIGHT
TZOFFSETFROM:-0800
TZOFFSETTO:-0700
TZNAME:PDT
DTSTART:20270314T100000
END:DAYLIGHT
BEGIN:STANDARD
TZOFFSETFROM:-0700
TZOFFSETTO:-0800
TZNAME:PST
DTSTART:20271107T090000
END:STANDARD
END:VTIMEZONE
BEGIN:VEVENT
DTSTART;TZID=America/Los_Angeles:20260115T210000
DTEND;TZID=America/Los_Angeles:20260116T020000
DTSTAMP:20260421T033454
CREATED:20260104T202335Z
LAST-MODIFIED:20260104T202335Z
UID:10000259-1768510800-1768528800@www.sdflicks.com
SUMMARY:Toxica
DESCRIPTION:Join us at Flicks for Toxica on Thursday!
URL:https://www.sdflicks.com/event/toxica-2025-01-15
LOCATION:Flicks\, 1017 University Ave\, San Diego\, CA\, 92103\, United States
ATTACH;FMTTYPE=image/jpeg:https://www.sdflicks.com/assets/media/2026/01/TOXICA_JAN15.jpg
GEO:32.748207;-117.154761
X-APPLE-STRUCTURED-LOCATION;VALUE=URI;X-ADDRESS=Flicks 1017 University Ave San Diego CA 92103 United States;X-APPLE-RADIUS=500;X-TITLE=1017 University Ave:geo:-117.154761,32.748207
END:VEVENT
BEGIN:VEVENT
DTSTART;TZID=America/Los_Angeles:20260114T200000
DTEND;TZID=America/Los_Angeles:20260115T020000
DTSTAMP:20260421T033454
CREATED:20260104T020424Z
LAST-MODIFIED:20260104T020550Z
UID:10000255-1768420800-1768442400@www.sdflicks.com
SUMMARY:Welfare Wednesday
DESCRIPTION:Join us at Flicks for $5 well drinks on Welfare Wednesdays!
URL:https://www.sdflicks.com/event/welfare-wednesday-2025-01-14
LOCATION:Flicks\, 1017 University Ave\, San Diego\, CA\, 92103\, United States
CATEGORIES:Avery Productions
ATTACH;FMTTYPE=image/jpeg:https://www.sdflicks.com/assets/media/2026/01/WW_JAN14.jpg
GEO:32.748207;-117.154761
X-APPLE-STRUCTURED-LOCATION;VALUE=URI;X-ADDRESS=Flicks 1017 University Ave San Diego CA 92103 United States;X-APPLE-RADIUS=500;X-TITLE=1017 University Ave:geo:-117.154761,32.748207
END:VEVENT
BEGIN:VEVENT
DTSTART;TZID=America/Los_Angeles:20260111T093000
DTEND;TZID=America/Los_Angeles:20260111T210000
DTSTAMP:20260421T033454
CREATED:20260104T211905Z
LAST-MODIFIED:20260104T212031Z
UID:10000260-1768123800-1768165200@www.sdflicks.com
SUMMARY:Sunday NFL Ticket
DESCRIPTION:Join us at Flicks for Sunday Football Action!
URL:https://www.sdflicks.com/event/sunday-football-2025-01-11
LOCATION:Flicks\, 1017 University Ave\, San Diego\, CA\, 92103\, United States
CATEGORIES:Avery Productions
ATTACH;FMTTYPE=image/jpeg:https://www.sdflicks.com/assets/media/2026/01/Flicks-Football-Sundays-Sunday-Ticket.jpg
GEO:32.748207;-117.154761
X-APPLE-STRUCTURED-LOCATION;VALUE=URI;X-ADDRESS=Flicks 1017 University Ave San Diego CA 92103 United States;X-APPLE-RADIUS=500;X-TITLE=1017 University Ave:geo:-117.154761,32.748207
END:VEVENT
BEGIN:VEVENT
DTSTART;TZID=America/Los_Angeles:20260110T210000
DTEND;TZID=America/Los_Angeles:20260111T020000
DTSTAMP:20260421T033454
CREATED:20260104T012633Z
LAST-MODIFIED:20260104T012633Z
UID:10000250-1768078800-1768096800@www.sdflicks.com
SUMMARY:Saturdays
DESCRIPTION:Join us at Flicks for Saturday night fun!
URL:https://www.sdflicks.com/event/saturdays-2025-01-10
LOCATION:Flicks\, 1017 University Ave\, San Diego\, CA\, 92103\, United States
CATEGORIES:Avery Productions
ATTACH;FMTTYPE=image/jpeg:https://www.sdflicks.com/assets/media/2026/01/SATS_JAN10.jpg
GEO:32.748207;-117.154761
X-APPLE-STRUCTURED-LOCATION;VALUE=URI;X-ADDRESS=Flicks 1017 University Ave San Diego CA 92103 United States;X-APPLE-RADIUS=500;X-TITLE=1017 University Ave:geo:-117.154761,32.748207
END:VEVENT
BEGIN:VEVENT
DTSTART;TZID=America/Los_Angeles:20260109T210000
DTEND;TZID=America/Los_Angeles:20260110T020000
DTSTAMP:20260421T033454
CREATED:20260103T212546Z
LAST-MODIFIED:20260103T212546Z
UID:10000245-1767992400-1768010400@www.sdflicks.com
SUMMARY:RUSH
DESCRIPTION:Join us at Flicks for RUSH Fridays!
URL:https://www.sdflicks.com/event/rush-2025-01-09
LOCATION:Flicks\, 1017 University Ave\, San Diego\, CA\, 92103\, United States
CATEGORIES:Avery Productions
ATTACH;FMTTYPE=image/jpeg:https://www.sdflicks.com/assets/media/2026/01/RUSH_JAN9.jpg
GEO:32.748207;-117.154761
X-APPLE-STRUCTURED-LOCATION;VALUE=URI;X-ADDRESS=Flicks 1017 University Ave San Diego CA 92103 United States;X-APPLE-RADIUS=500;X-TITLE=1017 University Ave:geo:-117.154761,32.748207
END:VEVENT
BEGIN:VEVENT
DTSTART;TZID=America/Los_Angeles:20260107T200000
DTEND;TZID=America/Los_Angeles:20260108T020000
DTSTAMP:20260421T033454
CREATED:20260104T020332Z
LAST-MODIFIED:20260104T020533Z
UID:10000254-1767816000-1767837600@www.sdflicks.com
SUMMARY:Welfare Wednesday
DESCRIPTION:Join us at Flicks for $5 well drinks on Welfare Wednesdays!
URL:https://www.sdflicks.com/event/welfare-wednesday-2025-01-07
LOCATION:Flicks\, 1017 University Ave\, San Diego\, CA\, 92103\, United States
CATEGORIES:Avery Productions
ATTACH;FMTTYPE=image/jpeg:https://www.sdflicks.com/assets/media/2026/01/WW_JAN7.jpg
GEO:32.748207;-117.154761
X-APPLE-STRUCTURED-LOCATION;VALUE=URI;X-ADDRESS=Flicks 1017 University Ave San Diego CA 92103 United States;X-APPLE-RADIUS=500;X-TITLE=1017 University Ave:geo:-117.154761,32.748207
END:VEVENT
BEGIN:VEVENT
DTSTART;TZID=America/Los_Angeles:20260104T170000
DTEND;TZID=America/Los_Angeles:20260105T020000
DTSTAMP:20260421T033454
CREATED:20260104T201749Z
LAST-MODIFIED:20260104T201749Z
UID:10000257-1767546000-1767578400@www.sdflicks.com
SUMMARY:Sundays
DESCRIPTION:Join us at Flicks for Sunday evening fun!
URL:https://www.sdflicks.com/event/sundays-2025-01-04
LOCATION:Flicks\, 1017 University Ave\, San Diego\, CA\, 92103\, United States
ATTACH;FMTTYPE=image/jpeg:https://www.sdflicks.com/assets/media/2026/01/SUNDAY_JAN4.jpg
GEO:32.748207;-117.154761
X-APPLE-STRUCTURED-LOCATION;VALUE=URI;X-ADDRESS=Flicks 1017 University Ave San Diego CA 92103 United States;X-APPLE-RADIUS=500;X-TITLE=1017 University Ave:geo:-117.154761,32.748207
END:VEVENT
BEGIN:VEVENT
DTSTART;TZID=America/Los_Angeles:20260103T210000
DTEND;TZID=America/Los_Angeles:20260104T020000
DTSTAMP:20260421T033454
CREATED:20260104T012523Z
LAST-MODIFIED:20260104T012523Z
UID:10000249-1767474000-1767492000@www.sdflicks.com
SUMMARY:Saturdays
DESCRIPTION:Join us at Flicks for Saturday night fun!
URL:https://www.sdflicks.com/event/saturdays-2025-01-03
LOCATION:Flicks\, 1017 University Ave\, San Diego\, CA\, 92103\, United States
CATEGORIES:Avery Productions
ATTACH;FMTTYPE=image/jpeg:https://www.sdflicks.com/assets/media/2026/01/SATS_JAN3.jpg
GEO:32.748207;-117.154761
X-APPLE-STRUCTURED-LOCATION;VALUE=URI;X-ADDRESS=Flicks 1017 University Ave San Diego CA 92103 United States;X-APPLE-RADIUS=500;X-TITLE=1017 University Ave:geo:-117.154761,32.748207
END:VEVENT
END:VCALENDAR